BEGIN:VCALENDAR
VERSION:2.0
PRODID:-//SPECTRUM - ECPv6.15.20//NONSGML v1.0//EN
CALSCALE:GREGORIAN
METHOD:PUBLISH
X-WR-CALNAME:SPECTRUM
X-ORIGINAL-URL:https://spectrumautism.org
X-WR-CALDESC:Events for SPECTRUM
REFRESH-INTERVAL;VALUE=DURATION:PT1H
X-Robots-Tag:noindex
X-PUBLISHED-TTL:PT1H
BEGIN:VTIMEZONE
TZID:America/New_York
BEGIN:DAYLIGHT
TZOFFSETFROM:-0500
TZOFFSETTO:-0400
TZNAME:EDT
DTSTART:20250309T070000
END:DAYLIGHT
BEGIN:STANDARD
TZOFFSETFROM:-0400
TZOFFSETTO:-0500
TZNAME:EST
DTSTART:20251102T060000
END:STANDARD
BEGIN:DAYLIGHT
TZOFFSETFROM:-0500
TZOFFSETTO:-0400
TZNAME:EDT
DTSTART:20260308T070000
END:DAYLIGHT
BEGIN:STANDARD
TZOFFSETFROM:-0400
TZOFFSETTO:-0500
TZNAME:EST
DTSTART:20261101T060000
END:STANDARD
BEGIN:DAYLIGHT
TZOFFSETFROM:-0500
TZOFFSETTO:-0400
TZNAME:EDT
DTSTART:20270314T070000
END:DAYLIGHT
BEGIN:STANDARD
TZOFFSETFROM:-0400
TZOFFSETTO:-0500
TZNAME:EST
DTSTART:20271107T060000
END:STANDARD
END:VTIMEZONE
BEGIN:VEVENT
DTSTART;TZID=America/New_York:20260424T183000
DTEND;TZID=America/New_York:20260424T200000
DTSTAMP:20260424T042336
CREATED:20260308T222431Z
LAST-MODIFIED:20260329T164329Z
UID:10052-1777055400-1777060800@spectrumautism.org
SUMMARY:Autistic Adults Social Outing April
DESCRIPTION:
URL:https://spectrumautism.org/event/autistic-adults-social-outing-april-04-24-26/
LOCATION:GA
CATEGORIES:Special Event
ATTACH;FMTTYPE=image/jpeg:https://spectrumautism.org/wp-content/uploads/2026/03/adult-outing-april-2026-v2.jpg
END:VEVENT
BEGIN:VEVENT
DTSTART;TZID=America/New_York:20260425T133000
DTEND;TZID=America/New_York:20260425T173000
DTSTAMP:20260424T042336
CREATED:20260310T124944Z
LAST-MODIFIED:20260417T190054Z
UID:10071-1777123800-1777138200@spectrumautism.org
SUMMARY:Autism Awareness Chess Tournament
DESCRIPTION:
URL:https://spectrumautism.org/event/autism-awareness-chess-tournament-04-25-26/
LOCATION:Lilburn City Park Pavilion\, 76 Main St. NW\, Lilburn\, GA\, 30047\, United States
CATEGORIES:Special Event
ATTACH;FMTTYPE=image/jpeg:https://spectrumautism.org/wp-content/uploads/2026/03/chess-tournament-04-25-26.jpg
END:VEVENT
BEGIN:VEVENT
DTSTART;TZID=America/New_York:20260425T173000
DTEND;TZID=America/New_York:20260425T203000
DTSTAMP:20260424T042336
CREATED:20260310T125156Z
LAST-MODIFIED:20260318T161944Z
UID:10074-1777138200-1777149000@spectrumautism.org
SUMMARY:Autism Awareness Art Show & Silent Auction
DESCRIPTION:
URL:https://spectrumautism.org/event/autism-awareness-art-show-silent-auction-04-18-26/
LOCATION:Salon Nine Seven\, 97 Main St. NW\, Lilburn\, GA\, 30047\, United States
CATEGORIES:Special Event
ATTACH;FMTTYPE=image/jpeg:https://spectrumautism.org/wp-content/uploads/2026/03/art-show-prev.jpg
END:VEVENT
BEGIN:VEVENT
DTSTART;TZID=America/New_York:20260425T183000
DTEND;TZID=America/New_York:20260425T203000
DTSTAMP:20260424T042336
CREATED:20251130T002304Z
LAST-MODIFIED:20251130T002304Z
UID:9567-1777141800-1777149000@spectrumautism.org
SUMMARY:Saturday Social Club For Adults On The Spectrum
DESCRIPTION:Spectrum Saturday Social Club will provide a safe space for adults who are on the autism spectrum. Participants who are out of high school and are 18 years or older\, have independent self help skills\, and are able to function with little supervision. The group will meet on Saturdays from 6:30 pm-8:30 pm where they will play games\, enjoy karaoke\, or watch movies with friends. The club will be supervised by professional staff that will facilitate the members to help make new friends and strengthen social skills.
URL:https://spectrumautism.org/event/saturday-social-club-for-adults-on-the-spectrum-04-25-26/
LOCATION:Spectrum Support Center\, 2997 Main Street\, Duluth\, GA\, 30097\, United States
CATEGORIES:Saturday Social Club
ATTACH;FMTTYPE=image/jpeg:https://spectrumautism.org/wp-content/uploads/2024/02/saturday-social-club-calendar-preview.jpg
END:VEVENT
BEGIN:VEVENT
DTSTART;TZID=America/New_York:20260426T130500
DTEND;TZID=America/New_York:20260426T150000
DTSTAMP:20260424T042336
CREATED:20260303T125028Z
LAST-MODIFIED:20260303T125028Z
UID:10025-1777208700-1777215600@spectrumautism.org
SUMMARY:Autism Awareness Day with the Gwinnett Stripers
DESCRIPTION:
URL:https://spectrumautism.org/event/autism-awareness-day-with-the-gwinnett-stripers/
LOCATION:Coolray Field\, 2500 Buford Drive\, Lawrenceville\, GA\, 30043\, United States
CATEGORIES:Special Event
ATTACH;FMTTYPE=image/jpeg:https://spectrumautism.org/wp-content/uploads/2026/03/autism-awareness-day-with-the-stripers.jpg
END:VEVENT
BEGIN:VEVENT
DTSTART;TZID=America/New_York:20260428T110000
DTEND;TZID=America/New_York:20260428T133000
DTSTAMP:20260424T042336
CREATED:20250803T191814Z
LAST-MODIFIED:20260102T135347Z
UID:9371-1777374000-1777383000@spectrumautism.org
SUMMARY:NLEP Enrichment Day
DESCRIPTION:
URL:https://spectrumautism.org/event/nlep-enrichment-day-04-28-26/
LOCATION:Spectrum Support Center\, 2997 Main Street\, Duluth\, GA\, 30097\, United States
CATEGORIES:Homeschool Programs
ATTACH;FMTTYPE=image/jpeg:https://spectrumautism.org/wp-content/uploads/2025/11/NLEP-Winter-Spring-2026.jpg
END:VEVENT
END:VCALENDAR